BEGIN:VCALENDAR
PRODID:-//PUBBLE//agenda//NL
VERSION:2.0
METHOD:PUBLISH
BEGIN:VEVENT
DTSTART:20250524T180000Z
DTEND:20250524T210000Z
DTSTAMP:20260420T065228Z
UID:ec704086-6c02-433f-99b8-f1e038e1ce99
CREATED:20260420T065228Z
NAME:Theatergroep Demasque speelt De Spaanse hoer denieuwsbode.nl
X-WR-CALNAME:Theatergroep Demasque speelt De Spaanse hoer
X-ALT-DESC;FMTTYPE=text/html:<a href='/agenda/2025/5/24/theatergroep-demasque-speelt-de-spaanse-hoer-1158766'>/agenda/2025/5/24/theatergroep-demasque-speelt-de-spaanse-hoer-1158766</a> || <p><strong>In een wereld vol sociale regels, verborgen verlangens en onuitgesproken spanningen verschijnt een vrouw die alles in beweging zet.</strong></p><p>De Spaanse Hoer is een rauwe, intieme en tragikomische voorstelling over macht, begeerte en de strijd om gezien te worden. Gebaseerd op de bewerking van Hugo Claus – op zijn beurt geïnspireerd door het 15e-eeuwse meesterwerk La Celestina – brengen wij een actuele vertelling over mensen die verlangen naar meer, maar vastzitten in de grenzen van hun bestaan.&nbsp;</p><p>Onder regie van Bart Brouwers duikt Demasqué in de donkere hoeken van het menselijke verlangen. Het resultaat is een voorstelling vol intensiteit, humor en ongemak.</p><p><strong>Speeldata</strong>: 23, 24, 30, 31 mei, 13, 14, 20, 21 juni</p><p><strong>Kaarten</strong>: € 17,50 op www.demasque.nl</p>
DESCRIPTION:<a href='/agenda/2025/5/24/theatergroep-demasque-speelt-de-spaanse-hoer-1158766'>/agenda/2025/5/24/theatergroep-demasque-speelt-de-spaanse-hoer-1158766</a> || <p><strong>In een wereld vol sociale regels, verborgen verlangens en onuitgesproken spanningen verschijnt een vrouw die alles in beweging zet.</strong></p><p>De Spaanse Hoer is een rauwe, intieme en tragikomische voorstelling over macht, begeerte en de strijd om gezien te worden. Gebaseerd op de bewerking van Hugo Claus – op zijn beurt geïnspireerd door het 15e-eeuwse meesterwerk La Celestina – brengen wij een actuele vertelling over mensen die verlangen naar meer, maar vastzitten in de grenzen van hun bestaan.&nbsp;</p><p>Onder regie van Bart Brouwers duikt Demasqué in de donkere hoeken van het menselijke verlangen. Het resultaat is een voorstelling vol intensiteit, humor en ongemak.</p><p><strong>Speeldata</strong>: 23, 24, 30, 31 mei, 13, 14, 20, 21 juni</p><p><strong>Kaarten</strong>: € 17,50 op www.demasque.nl</p>
LAST-MODIFIED:20260420T065228Z
LOCATION: Theater de Egeling, Kunstenhuis Zeist | Egelinglaan 2B Zeist
SEQUENCE:0
STATUS:CONFIRMED
SUMMARY:Theatergroep Demasque speelt De Spaanse hoer
TRANSP:OPAQUE
END:VEVENT
END:VCALENDAR
