BEGIN:VCALENDAR
PRODID:-//PUBBLE//agenda//NL
VERSION:2.0
METHOD:PUBLISH
BEGIN:VEVENT
DTSTART:20250514T080319Z
DTEND:20250514T090319Z
DTSTAMP:20260420T071359Z
UID:dd837f1b-1373-4a99-bd80-4920219ef723
CREATED:20260420T071359Z
NAME:Bachcantates denieuwsbode.nl
X-WR-CALNAME:Bachcantates
X-ALT-DESC;FMTTYPE=text/html:<a href='/agenda/2025/5/25/bachcantates-1165630'>/agenda/2025/5/25/bachcantates-1165630</a> || <p>Op zondagmiddag 25 mei om 14.30 uur is er weer een cantatedienst in de NoorderLichtkerk. Het Barokensemble Zeist (verbonden aan het Kunstenhuis) zal hierin twee cantates uitvoeren die Bach in 1724 voor dezelfde week componeerde. Wahrlich, wahrlich ich sage euch (BWV 86), voor de zondag voor Hemelvaart en Wer da gläubet und getauft wird (BWV 37) voor Hemelvaartsdag zelf.&nbsp;</p><p>Het geheel staat onder leiding van Paulien Kostense en Stephan Esmeijer. Tekstueel behandelen beide cantates afscheidswoorden van Jezus. Kom luisteren hoe Bach dit muzikaal weet te verbeelden.&nbsp;</p><p>Het geheel is ingebed in een liturgische setting verzorgd door gemeenteleden van de NoorderLichtgemeente waarin onder andere de betreffende bijbelgedeeltes worden gelezen en de cantates worden toegelicht en overdacht.&nbsp;</p><p>Na afloop is er een collecte en bent u nog welkom voor koffie of thee.&nbsp;&nbsp;</p>
DESCRIPTION:<a href='/agenda/2025/5/25/bachcantates-1165630'>/agenda/2025/5/25/bachcantates-1165630</a> || <p>Op zondagmiddag 25 mei om 14.30 uur is er weer een cantatedienst in de NoorderLichtkerk. Het Barokensemble Zeist (verbonden aan het Kunstenhuis) zal hierin twee cantates uitvoeren die Bach in 1724 voor dezelfde week componeerde. Wahrlich, wahrlich ich sage euch (BWV 86), voor de zondag voor Hemelvaart en Wer da gläubet und getauft wird (BWV 37) voor Hemelvaartsdag zelf.&nbsp;</p><p>Het geheel staat onder leiding van Paulien Kostense en Stephan Esmeijer. Tekstueel behandelen beide cantates afscheidswoorden van Jezus. Kom luisteren hoe Bach dit muzikaal weet te verbeelden.&nbsp;</p><p>Het geheel is ingebed in een liturgische setting verzorgd door gemeenteleden van de NoorderLichtgemeente waarin onder andere de betreffende bijbelgedeeltes worden gelezen en de cantates worden toegelicht en overdacht.&nbsp;</p><p>Na afloop is er een collecte en bent u nog welkom voor koffie of thee.&nbsp;&nbsp;</p>
LAST-MODIFIED:20260420T071359Z
LOCATION: Noorderlichtkerk | Bergweg 92b Zeist
SEQUENCE:0
STATUS:CONFIRMED
SUMMARY:Bachcantates
TRANSP:OPAQUE
END:VEVENT
END:VCALENDAR
