BEGIN:VCALENDAR
PRODID:-//PUBBLE//agenda//NL
VERSION:2.0
METHOD:PUBLISH
BEGIN:VEVENT
DTSTART:20250906T140000Z
DTEND:20250906T150000Z
DTSTAMP:20260420T014533Z
UID:d60cd6bb-5152-4004-80e6-ce457cadb312
CREATED:20260420T014533Z
NAME:Gratis Proefles Zen Meditatie denieuwsbode.nl
X-WR-CALNAME:Gratis Proefles Zen Meditatie
X-ALT-DESC;FMTTYPE=text/html:<a href='/agenda/2025/9/6/gratis-proefles-zen-meditatie-1184830'>/agenda/2025/9/6/gratis-proefles-zen-meditatie-1184830</a> || <p>Heb je interesse in meditatie en wil je een keer ervaren hoe dit is? Kom naar onze proefles Zen Meditatie om te horen wat dit je kan brengen. Voor meer informatie: <a href="//www.zenzeist.nl">www.zenzeist.nl</a>&nbsp;</p><p>Als je komt is aanmelden fijn via: info@zenzeist.nl</p>
DESCRIPTION:<a href='/agenda/2025/9/6/gratis-proefles-zen-meditatie-1184830'>/agenda/2025/9/6/gratis-proefles-zen-meditatie-1184830</a> || <p>Heb je interesse in meditatie en wil je een keer ervaren hoe dit is? Kom naar onze proefles Zen Meditatie om te horen wat dit je kan brengen. Voor meer informatie: <a href="//www.zenzeist.nl">www.zenzeist.nl</a>&nbsp;</p><p>Als je komt is aanmelden fijn via: info@zenzeist.nl</p>
LAST-MODIFIED:20260420T014533Z
LOCATION: De Ruimte | Dijnselburgerlaan 7 Zeist
SEQUENCE:0
STATUS:CONFIRMED
SUMMARY:Gratis Proefles Zen Meditatie
TRANSP:OPAQUE
END:VEVENT
END:VCALENDAR
