BEGIN:VCALENDAR
PRODID:-//PUBBLE//agenda//NL
VERSION:2.0
METHOD:PUBLISH
BEGIN:VEVENT
DTSTART:20250809T153000Z
DTEND:20251004T161700Z
DTSTAMP:20260420T014527Z
UID:a6478a42-5090-4187-b8e9-191b5b26ef91
CREATED:20260420T014527Z
NAME:Chillen in Bommel in Zeist: haal eruit wat erin zit denieuwsbode.nl
X-WR-CALNAME:Chillen in Bommel in Zeist: haal eruit wat erin zit
X-ALT-DESC;FMTTYPE=text/html:<a href='/agenda/2025/8/9/chillen-in-bommel-in-zeist-haal-eruit-wat-erin-zit-1185807'>/agenda/2025/8/9/chillen-in-bommel-in-zeist-haal-eruit-wat-erin-zit-1185807</a> || <p>Zin in een gezellige avond zonder gedoe? Kom naar het <strong>Chillen&nbsp;</strong>bij <strong>Café Bommel in Zeis</strong><strong>t.</strong> De achterzaal is een café om in ontspannen sfeer anderen te ontmoeten en gewoon jezelf zijn. Of je nu zin hebt in een praatje, een spelletje of gewoon een drankje in chille sfeer - jij bepaalt wat je eruit haalt.</p>
DESCRIPTION:<a href='/agenda/2025/8/9/chillen-in-bommel-in-zeist-haal-eruit-wat-erin-zit-1185807'>/agenda/2025/8/9/chillen-in-bommel-in-zeist-haal-eruit-wat-erin-zit-1185807</a> || <p>Zin in een gezellige avond zonder gedoe? Kom naar het <strong>Chillen&nbsp;</strong>bij <strong>Café Bommel in Zeis</strong><strong>t.</strong> De achterzaal is een café om in ontspannen sfeer anderen te ontmoeten en gewoon jezelf zijn. Of je nu zin hebt in een praatje, een spelletje of gewoon een drankje in chille sfeer - jij bepaalt wat je eruit haalt.</p>
LAST-MODIFIED:20260420T014527Z
LOCATION: Bommel | Steynlaan 79 Zeist
SEQUENCE:0
STATUS:CONFIRMED
SUMMARY:Chillen in Bommel in Zeist: haal eruit wat erin zit
TRANSP:OPAQUE
END:VEVENT
END:VCALENDAR
